BEGIN:VCALENDAR
VERSION:2.0
PRODID:-//Inspiration Station - ECPv6.15.20//NONSGML v1.0//EN
CALSCALE:GREGORIAN
METHOD:PUBLISH
X-WR-CALNAME:Inspiration Station
X-ORIGINAL-URL:https://inspirationstation.org
X-WR-CALDESC:Events for Inspiration Station
REFRESH-INTERVAL;VALUE=DURATION:PT1H
X-Robots-Tag:noindex
X-PUBLISHED-TTL:PT1H
BEGIN:VTIMEZONE
TZID:America/New_York
BEGIN:DAYLIGHT
TZOFFSETFROM:-0500
TZOFFSETTO:-0400
TZNAME:EDT
DTSTART:20240310T070000
END:DAYLIGHT
BEGIN:STANDARD
TZOFFSETFROM:-0400
TZOFFSETTO:-0500
TZNAME:EST
DTSTART:20241103T060000
END:STANDARD
BEGIN:DAYLIGHT
TZOFFSETFROM:-0500
TZOFFSETTO:-0400
TZNAME:EDT
DTSTART:20250309T070000
END:DAYLIGHT
BEGIN:STANDARD
TZOFFSETFROM:-0400
TZOFFSETTO:-0500
TZNAME:EST
DTSTART:20251102T060000
END:STANDARD
BEGIN:DAYLIGHT
TZOFFSETFROM:-0500
TZOFFSETTO:-0400
TZNAME:EDT
DTSTART:20260308T070000
END:DAYLIGHT
BEGIN:STANDARD
TZOFFSETFROM:-0400
TZOFFSETTO:-0500
TZNAME:EST
DTSTART:20261101T060000
END:STANDARD
END:VTIMEZONE
BEGIN:VEVENT
DTSTART;TZID=America/New_York:20251227T100000
DTEND;TZID=America/New_York:20251227T100000
DTSTAMP:20260425T185333
CREATED:20251209T171718Z
LAST-MODIFIED:20251209T171935Z
UID:10000003-1766829600-1766829600@inspirationstation.org
SUMMARY:Engineering Hope Challenge – Holiday Giving Event for Students
DESCRIPTION:Join us for Engineering Hope\, a hands-on holiday giving challenge where students use real engineering principles to make a meaningful impact in the community. \nParticipants will step into the role of industrial and process engineers—applying concepts like efficiency\, flow\, quality control\, and teamwork—to design and optimize a production line that packages essential goods for families experiencing need. \nThis special event blends STEM learning\, community service\, and holiday compassion\, giving students an inspiring way to support local families while growing skills in collaboration and problem-solving. \nWhat to Expect \n\n\nTeam-based engineering challenges\n\n\nReal production line design and optimization\n\n\nHands-on packaging of essential items for families\n\n\nOpportunities to earn volunteer/service hours\n\n\nA chance to make a meaningful difference this holiday season\n\n\nRegistration \nSpace is limited. Registration is required and free.Reserve your spot today.
URL:https://inspirationstation.org/event/engineering-hope-challenge-holiday-giving-event-for-students/
LOCATION:Inspiration Station\, 1170 N. Court Street\, Circleville\, OH\, 43113\, United States
ATTACH;FMTTYPE=image/jpeg:https://inspirationstation.org/wp-content/uploads/2025/12/594271765_831008439541202_7673152934827778008_n.jpg
END:VEVENT
BEGIN:VEVENT
DTSTART;VALUE=DATE:20251114
DTEND;VALUE=DATE:20251115
DTSTAMP:20260425T185333
CREATED:20250828T140152Z
LAST-MODIFIED:20250828T140152Z
UID:10000002-1763078400-1763164799@inspirationstation.org
SUMMARY:Open House
DESCRIPTION:More information coming soon.
URL:https://inspirationstation.org/event/open-house/
LOCATION:Inspiration Station\, 1170 N. Court Street\, Circleville\, OH\, 43113\, United States
END:VEVENT
BEGIN:VEVENT
DTSTART;TZID=America/New_York:20250920T103000
DTEND;TZID=America/New_York:20250920T123000
DTSTAMP:20260425T185333
CREATED:20250828T135354Z
LAST-MODIFIED:20250828T135354Z
UID:10000001-1758364200-1758371400@inspirationstation.org
SUMMARY:S.T.E.A.M. Fall Fest
DESCRIPTION:Full STEAM Ahead for Fall Fun! Inspiration Station’s S.T.E.A.M. Fall Fest 📅 Saturday\, September 20\, 2025 🕥 10:30 AM – 12:30 PM 📍 Inspiration Station Bring your budding scientists\, engineers\, and artists for a morning packed with hands-on autumn fun! 🍂 Activities Include: Pumpkin Science Experiments Engineering Challenges Creative Art Stations Scarecrow Autopsy (yes—it’s as fun as it sounds!) Tasty Fall Snacks 💲 $15 per participant – discounts for multiple registrations 🎯 Designed for families with elementary & middle school students Space is limited! 📲 \nRegister today!
URL:https://inspirationstation.org/event/s-t-e-a-m-fall-fest/
LOCATION:Inspiration Station\, 1170 N. Court Street\, Circleville\, OH\, 43113\, United States
ATTACH;FMTTYPE=image/jpeg:https://inspirationstation.org/wp-content/uploads/2025/08/original-A3772686-4CA1-4E1E-8951-D27B5FB279B4.jpeg
END:VEVENT
END:VCALENDAR