BEGIN:VCALENDAR
VERSION:2.0
PRODID:-//Inspiration Station - ECPv6.15.20//NONSGML v1.0//EN
CALSCALE:GREGORIAN
METHOD:PUBLISH
X-WR-CALNAME:Inspiration Station
X-ORIGINAL-URL:https://inspirationstation.org
X-WR-CALDESC:Events for Inspiration Station
REFRESH-INTERVAL;VALUE=DURATION:PT1H
X-Robots-Tag:noindex
X-PUBLISHED-TTL:PT1H
BEGIN:VTIMEZONE
TZID:America/New_York
BEGIN:DAYLIGHT
TZOFFSETFROM:-0500
TZOFFSETTO:-0400
TZNAME:EDT
DTSTART:20250309T070000
END:DAYLIGHT
BEGIN:STANDARD
TZOFFSETFROM:-0400
TZOFFSETTO:-0500
TZNAME:EST
DTSTART:20251102T060000
END:STANDARD
BEGIN:DAYLIGHT
TZOFFSETFROM:-0500
TZOFFSETTO:-0400
TZNAME:EDT
DTSTART:20260308T070000
END:DAYLIGHT
BEGIN:STANDARD
TZOFFSETFROM:-0400
TZOFFSETTO:-0500
TZNAME:EST
DTSTART:20261101T060000
END:STANDARD
BEGIN:DAYLIGHT
TZOFFSETFROM:-0500
TZOFFSETTO:-0400
TZNAME:EDT
DTSTART:20270314T070000
END:DAYLIGHT
BEGIN:STANDARD
TZOFFSETFROM:-0400
TZOFFSETTO:-0500
TZNAME:EST
DTSTART:20271107T060000
END:STANDARD
END:VTIMEZONE
BEGIN:VEVENT
DTSTART;TZID=America/New_York:20260501T180000
DTEND;TZID=America/New_York:20260501T200000
DTSTAMP:20260425T113439
CREATED:20260424T130044Z
LAST-MODIFIED:20260424T132328Z
UID:10000005-1777658400-1777665600@inspirationstation.org
SUMMARY:Stars\, Stripes & STEAM
DESCRIPTION:Join Inspiration Station for Stars\, Stripes & STEAM\, a COSI Science Festival Community Event celebrating America’s 250-year journey of discovery\, ingenuity\, and problem-solving. \nThis hands-on community event honors the scientists\, engineers\, inventors\, and innovators who helped shape the nation — from the spirit of the American Revolution to the technologies defining our future. Families and guests of all ages are invited to explore\, create\, and experience STEAM through fun\, interactive activities. \nFeatured hands-on experiences include: \n\nMake a light-up greeting card using circuits\nBuild a bridge and test it for strength\nExperience a virtual reality session\nCode a patriotic Raspberry Pi program\nWatch multiple 3D printers in action\nMake patriotic bracelets and pinwheels\nContribute to a time capsule to be opened in 10 years\n\nAdditional activities include: \n\nBuilding blocks\nLego construction\nLight Bright and gear wall\nHistorical people\, events\, and equipment\n\nGuests can also enjoy cotton candy and popcorn during the event. \nCome celebrate creativity\, innovation\, and America’s 250th with an evening of family-friendly STEAM fun.
URL:https://inspirationstation.org/event/stars-stripes-steam/
LOCATION:Inspiration Station\, 1170 N. Court Street\, Circleville\, OH\, 43113\, United States
ATTACH;FMTTYPE=image/webp:https://inspirationstation.org/wp-content/uploads/2026/04/2026-StarsStripesSteam-1200.webp
END:VEVENT
BEGIN:VEVENT
DTSTART;TZID=America/New_York:20260509T100000
DTEND;TZID=America/New_York:20260509T120000
DTSTAMP:20260425T113439
CREATED:20260424T130207Z
LAST-MODIFIED:20260424T132233Z
UID:10000006-1778320800-1778328000@inspirationstation.org
SUMMARY:Mother’s Day at Inspiration Station
DESCRIPTION:Celebrate Mother’s Day with hands-on STEAM fun at Inspiration Station. \nFamilies are invited to enjoy a morning of creativity\, learning\, and memorable moments with someone special. Guests can create a glowing light-up card\, plant a flower to take home and grow\, and explore the science of clouds with a sweet twist. \nActivities include: \n\nLight-up card making using circuits\nPlant a flower to take home\nClouds and tea time weather activity\nCotton candy and cookies\n\nThis event is a perfect way to celebrate Mother’s Day while discovering\, creating\, and exploring together.
URL:https://inspirationstation.org/event/mothers-day-at-inspiration-station/
LOCATION:Inspiration Station\, 1170 N. Court Street\, Circleville\, OH\, 43113\, United States
ATTACH;FMTTYPE=image/webp:https://inspirationstation.org/wp-content/uploads/2026/04/2026-MothersDay-1200.webp
END:VEVENT
BEGIN:VEVENT
DTSTART;VALUE=DATE:20260608
DTEND;VALUE=DATE:20260613
DTSTAMP:20260425T113439
CREATED:20260424T130346Z
LAST-MODIFIED:20260424T132124Z
UID:10000007-1780876800-1781308799@inspirationstation.org
SUMMARY:Kids on Campus
DESCRIPTION:Join Inspiration Station for Kids on Campus\, a summer enrichment program designed for students who are interested in exploring math\, science\, technology\, and visual art through exciting\, hands-on learning activities. \nThis weeklong program gives students the opportunity to discover new ideas\, build skills\, and explore creative problem-solving in a fun and engaging environment. \nStudents will take part in interactive learning experiences designed to encourage curiosity\, creativity\, and innovation. \nTime:9:00 AM – 3:30 PM each day \nProgram areas may include: \n\nMath\nScience\nTechnology\nVisual arts\nHands-on enrichment activities\n\nKids on Campus is a great opportunity for students to keep learning\, creating\, and exploring during the summer.
URL:https://inspirationstation.org/event/kids-on-campus/
LOCATION:Inspiration Station\, 1170 N. Court Street\, Circleville\, OH\, 43113\, United States
ATTACH;FMTTYPE=image/webp:https://inspirationstation.org/wp-content/uploads/2026/04/2026-KidsOnCampus-1200.webp
END:VEVENT
END:VCALENDAR